BEGIN:VCALENDAR
VERSION:2.0
PRODID:Data::ICal 0.24
X-WR-CALNAME:Palo Alto Friday English Dance
BEGIN:VTIMEZONE
TZID:America/Los_Angeles
BEGIN:DAYLIGHT
DTSTART:20260308T100000
TZNAME:PDT
TZOFFSETFROM:-0800
TZOFFSETTO:-0700
END:DAYLIGHT
BEGIN:STANDARD
DTSTART:20261101T090000
TZNAME:PST
TZOFFSETFROM:-0700
TZOFFSETTO:-0800
END:STANDARD
END:VTIMEZONE
BEGIN:VEVENT
CATEGORIES:ENGLISH
CLASS:PUBLIC
CREATED:20260423T204409
DESCRIPTION:Bruce Hamilton English dancing for all - dance 7:30-10:00
DTEND;TZID=America/Los_Angeles:20260807T220000
DTSTAMP:20260424T120937
DTSTART;TZID=America/Los_Angeles:20260807T193000
LAST-MODIFIED:20260423T204409
LOCATION:St. Mark's Episcopal Church\, 600 Colorado Avenue\, Palo Alto
ORGANIZER:Palo Alto Friday English Dance
STATUS:CONFIRMED
SUMMARY:Palo Alto Friday English Dance: Bruce Hamilton
UID:2D72D8FA-3F55-11F1-B753-B5EA6C9F2403
URL:https://bacds.org/series/english/palo_alto/
END:VEVENT
END:VCALENDAR
