BEGIN:VCALENDAR
VERSION:2.0
PRODID:Data::ICal 0.24
X-WR-CALNAME:Palo Alto Friday English Dance
BEGIN:VTIMEZONE
TZID:America/Los_Angeles
BEGIN:DAYLIGHT
DTSTART:20260308T100000
TZNAME:PDT
TZOFFSETFROM:-0800
TZOFFSETTO:-0700
END:DAYLIGHT
BEGIN:STANDARD
DTSTART:20261101T090000
TZNAME:PST
TZOFFSETFROM:-0700
TZOFFSETTO:-0800
END:STANDARD
END:VTIMEZONE
BEGIN:VEVENT
CATEGORIES:ENGLISH
CLASS:PUBLIC
CREATED:20260423T203910
DESCRIPTION:Bruce Herbold English dancing for all - dance 7:30-10:00
DTEND;TZID=America/Los_Angeles:20260605T220000
DTSTAMP:20260424T120523
DTSTART;TZID=America/Los_Angeles:20260605T193000
LAST-MODIFIED:20260423T203910
LOCATION:St. Mark's Episcopal Church\, 600 Colorado Avenue\, Palo Alto
ORGANIZER:Palo Alto Friday English Dance
STATUS:CONFIRMED
SUMMARY:Palo Alto Friday English Dance: Bruce Herbold
UID:7B6A9CD8-3F54-11F1-964B-8C108636DA16
URL:https://bacds.org/series/english/palo_alto/
END:VEVENT
END:VCALENDAR
