BEGIN:VCALENDAR
VERSION:2.0
PRODID:Data::ICal 0.24
X-WR-CALNAME:Berkeley Fourth Saturday Experienced Dance
BEGIN:VTIMEZONE
TZID:America/Los_Angeles
BEGIN:DAYLIGHT
DTSTART:20260308T100000
TZNAME:PDT
TZOFFSETFROM:-0800
TZOFFSETTO:-0700
END:DAYLIGHT
BEGIN:STANDARD
DTSTART:20261101T090000
TZNAME:PST
TZOFFSETFROM:-0700
TZOFFSETTO:-0800
END:STANDARD
END:VTIMEZONE
BEGIN:VEVENT
CATEGORIES:ENGLISH
CATEGORIES:EXPERIENCED
CLASS:PUBLIC
CREATED:20260305T020343
DESCRIPTION: Berkeley Experienced English
DTEND;TZID=America/Los_Angeles:20260627T220000
DTSTAMP:20260421T121817
DTSTART;TZID=America/Los_Angeles:20260627T193000
LAST-MODIFIED:20260305T020343
LOCATION:Christ Church East Bay\, 2138 Cedar Street\, Berkeley
ORGANIZER:Berkeley Fourth Saturday Experienced Dance
STATUS:CONFIRMED
SUMMARY:Berkeley Fourth Saturday Experienced Dance
UID:8967B12A-1837-11F1-8FF8-B05EBC805A93
URL:https://bacds.org/series/english/berkeley_sat/
END:VEVENT
END:VCALENDAR
