BEGIN:VCALENDAR
VERSION:2.0
PRODID:Data::ICal 0.24
X-WR-CALNAME:Berkeley Fourth Saturday Experienced Dance
BEGIN:VTIMEZONE
TZID:America/Los_Angeles
BEGIN:DAYLIGHT
DTSTART:20260308T100000
TZNAME:PDT
TZOFFSETFROM:-0800
TZOFFSETTO:-0700
END:DAYLIGHT
BEGIN:STANDARD
DTSTART:20261101T090000
TZNAME:PST
TZOFFSETFROM:-0700
TZOFFSETTO:-0800
END:STANDARD
END:VTIMEZONE
BEGIN:VEVENT
CATEGORIES:ENGLISH
CATEGORIES:EXPERIENCED
CLASS:PUBLIC
CREATED:20260305T020324
DESCRIPTION: Berkeley Experienced English
DTEND;TZID=America/Los_Angeles:20260523T220000
DTSTAMP:20260421T121946
DTSTART;TZID=America/Los_Angeles:20260523T193000
LAST-MODIFIED:20260305T020324
LOCATION:Christ Church East Bay\, 2138 Cedar Street\, Berkeley
ORGANIZER:Berkeley Fourth Saturday Experienced Dance
STATUS:CONFIRMED
SUMMARY:Berkeley Fourth Saturday Experienced Dance
UID:7DFAC7C8-1837-11F1-AC2B-AE9DFE47D10D
URL:https://bacds.org/series/english/berkeley_sat/
END:VEVENT
END:VCALENDAR
