BEGIN:VCALENDAR
VERSION:2.0
PRODID:Data::ICal 0.24
X-WR-CALNAME:Berkeley English
BEGIN:VTIMEZONE
TZID:America/Los_Angeles
BEGIN:DAYLIGHT
DTSTART:20260308T100000
TZNAME:PDT
TZOFFSETFROM:-0800
TZOFFSETTO:-0700
END:DAYLIGHT
BEGIN:STANDARD
DTSTART:20261101T090000
TZNAME:PST
TZOFFSETFROM:-0700
TZOFFSETTO:-0800
END:STANDARD
END:VTIMEZONE
BEGIN:VEVENT
CATEGORIES:ENGLISH
CLASS:PUBLIC
CREATED:20251231T093518
DESCRIPTION:David Newitt with music by Jon Berger\, Judy Linsenberg\, Charl
 ie Hancock English dancing for all - newcomer lesson at 7:25\; dance 7:45-
 10:00. 4th Wed is Open Band (folks are welcome to sit in behind the hired 
 musicians)
DTEND;TZID=America/Los_Angeles:20260325T220000
DTSTAMP:20260421T101056
DTSTART;TZID=America/Los_Angeles:20260325T194500
LAST-MODIFIED:20260215T222204
LOCATION:Christ Church East Bay\, 2138 Cedar Street\, Berkeley
ORGANIZER:Berkeley English
STATUS:CONFIRMED
SUMMARY:Berkeley English: David Newitt
UID:cc019070-ff27-11f0-90e9-4afb30773045
URL:https://bacds.org/series/english/berkeley_wed/
END:VEVENT
END:VCALENDAR
