BEGIN:VCALENDAR
VERSION:2.0
PRODID:Data::ICal 0.24
X-WR-CALNAME:Palo Alto Friday English Dance
BEGIN:VTIMEZONE
TZID:America/Los_Angeles
BEGIN:DAYLIGHT
DTSTART:20260308T100000
TZNAME:PDT
TZOFFSETFROM:-0800
TZOFFSETTO:-0700
END:DAYLIGHT
BEGIN:STANDARD
DTSTART:20261101T090000
TZNAME:PST
TZOFFSETFROM:-0700
TZOFFSETTO:-0800
END:STANDARD
END:VTIMEZONE
BEGIN:VEVENT
CLASS:PUBLIC
CREATED:20250228T192252
DESCRIPTION: English dancing for all - dance 7:30-10:00
DTEND;TZID=America/Los_Angeles:20251003T213000
DTSTAMP:20260424T134445
DTSTART;TZID=America/Los_Angeles:20251003T193000
LAST-MODIFIED:20251003T155025
LOCATION:
ORGANIZER:Palo Alto Friday English Dance
STATUS:CONFIRMED
SUMMARY:Palo Alto Friday English Dance
UID:cc017054-ff27-11f0-90e9-4afb30773045
URL:https://bacds.org/series/english/palo_alto/
END:VEVENT
END:VCALENDAR
