BEGIN:VCALENDAR
VERSION:2.0
PRODID:Data::ICal 0.24
X-WR-CALNAME:East Bay Square Dance
BEGIN:VTIMEZONE
TZID:America/Los_Angeles
BEGIN:DAYLIGHT
DTSTART:20260308T100000
TZNAME:PDT
TZOFFSETFROM:-0800
TZOFFSETTO:-0700
END:DAYLIGHT
BEGIN:STANDARD
DTSTART:20261101T090000
TZNAME:PST
TZOFFSETFROM:-0700
TZOFFSETTO:-0800
END:STANDARD
END:VTIMEZONE
BEGIN:VEVENT
CATEGORIES:SQUARE
CLASS:PUBLIC
CREATED:20250114T063308
DESCRIPTION:Sarah Gibson with music by Round Top String Band: Nick Lofaro\,
  Rowan McCallister\, Dan Kluger\, Allegra Thompson In March 2025\, our dan
 ce is on a SATURDAY at the Hillside Club. No experience necessary. Kids we
 lcome. Doors open at 7:45. Please pay in cash or venmo. This is a traditio
 nal or old-time square dance (not a modern or club square dance). That sai
 d\, square dancers of all stripes are welcome! 
DTEND;TZID=America/Los_Angeles:20250322T220000
DTSTAMP:20260422T103025
DTSTART;TZID=America/Los_Angeles:20250322T200000
LAST-MODIFIED:20250124T004049
LOCATION:Hillside Club\, 2286 Cedar Street\, Berkeley
ORGANIZER:East Bay Square Dance
STATUS:CONFIRMED
SUMMARY:East Bay Square Dance: Sarah Gibson
UID:cc016d05-ff27-11f0-90e9-4afb30773045
URL:https://bacds.org/series/square/east-bay/
END:VEVENT
END:VCALENDAR
