BEGIN:VCALENDAR
VERSION:2.0
PRODID:Data::ICal 0.24
X-WR-CALNAME:East Bay Square Dance
BEGIN:VTIMEZONE
TZID:America/Los_Angeles
BEGIN:DAYLIGHT
DTSTART:20260308T100000
TZNAME:PDT
TZOFFSETFROM:-0800
TZOFFSETTO:-0700
END:DAYLIGHT
BEGIN:STANDARD
DTSTART:20261101T090000
TZNAME:PST
TZOFFSETFROM:-0700
TZOFFSETTO:-0800
END:STANDARD
END:VTIMEZONE
BEGIN:VEVENT
CATEGORIES:SQUARE
CLASS:PUBLIC
CREATED:20241221T165523
DESCRIPTION:Robin Fischer with music by Round Top String Band: Nick Lofaro\
 , Rowan McCallister\, Dan Kluger\, Allegra Thompson Old-Time Square Dance 
 at the Hillside Club! This dance is in the year 2025. No experience necess
 ary. Kids welcome. BYOB--beer and wine only\; no hard liquor. Doors open a
 t 7:45. Please pay in cash or venmo. Bring dance shoes if you have them\; 
 no stiletto heels allowed. Regarding the style of dance: this is not a mod
 ern or club square dance\; it is a traditional or old-time square dance. T
 hat said\, square dancers of all stripes are welcome!
DTEND;TZID=America/Los_Angeles:20250117T220000
DTSTAMP:20260421T141940
DTSTART;TZID=America/Los_Angeles:20250117T200000
LAST-MODIFIED:20250114T062922
LOCATION:Hillside Club\, 2286 Cedar Street\, Berkeley
ORGANIZER:East Bay Square Dance
STATUS:CONFIRMED
SUMMARY:East Bay Square Dance: Robin Fischer
UID:cc01667f-ff27-11f0-90e9-4afb30773045
URL:https://bacds.org/series/square/east-bay/
END:VEVENT
END:VCALENDAR
