BEGIN:VCALENDAR
VERSION:2.0
PRODID:Data::ICal 0.24
X-WR-CALNAME:Peninsula English (Palo Alto)
BEGIN:VTIMEZONE
TZID:America/Los_Angeles
BEGIN:DAYLIGHT
DTSTART:20260308T100000
TZNAME:PDT
TZOFFSETFROM:-0800
TZOFFSETTO:-0700
END:DAYLIGHT
BEGIN:STANDARD
DTSTART:20261101T090000
TZNAME:PST
TZOFFSETFROM:-0700
TZOFFSETTO:-0800
END:STANDARD
END:VTIMEZONE
BEGIN:VEVENT
CATEGORIES:ENGLISH
CLASS:PUBLIC
CREATED:20240730T014101
DESCRIPTION:Kalia Kliban with music by Ben Jackson\, Renata Bratt\, Bill Je
 nsen At First United Methodist Church\, Kohlstedt Hall (downstairs)
DTEND;TZID=America/Los_Angeles:20241001T213000
DTSTAMP:20260421T032416
DTSTART;TZID=America/Los_Angeles:20241001T193000
LAST-MODIFIED:20250703T081922
LOCATION:First United Methodist Church of Palo Alto\, 625 Hamilton at Byron
 \, Palo Alto
ORGANIZER:Peninsula English (Palo Alto)
STATUS:CONFIRMED
SUMMARY:Peninsula English (Palo Alto): Kalia Kliban
UID:cc015cc4-ff27-11f0-90e9-4afb30773045
URL:https://bacds.org/series/english/peninsula/
END:VEVENT
END:VCALENDAR
