BEGIN:VCALENDAR
VERSION:2.0
PRODID:Data::ICal 0.24
X-WR-CALNAME:Oddly Even Sunday Online English Dance Party
BEGIN:VTIMEZONE
TZID:America/Los_Angeles
BEGIN:DAYLIGHT
DTSTART:20260308T100000
TZNAME:PDT
TZOFFSETFROM:-0800
TZOFFSETTO:-0700
END:DAYLIGHT
BEGIN:STANDARD
DTSTART:20261101T090000
TZNAME:PST
TZOFFSETFROM:-0700
TZOFFSETTO:-0800
END:STANDARD
END:VTIMEZONE
BEGIN:VEVENT
CATEGORIES:ONLINE
CATEGORIES:ENGLISH
CLASS:PUBLIC
CREATED:20240726T191601
DESCRIPTION:Sharon Green with music by Recorded Music by Odd Sundays Garage
  Band and others Oddly Even Sunday Online English Dance Party
DTEND;TZID=America/Los_Angeles:20240908T153000
DTSTAMP:20260423T224811
DTSTART;TZID=America/Los_Angeles:20240908T133000
LAST-MODIFIED:20250703T081922
LOCATION:online\, wherever\, the cloud
ORGANIZER:Oddly Even Sunday Online English Dance Party
STATUS:CONFIRMED
SUMMARY:Oddly Even Sunday Online English Dance Party: Sharon Green
UID:cc015b51-ff27-11f0-90e9-4afb30773045
URL:https://bacds.org/series/virtual/oddsundays.html
END:VEVENT
END:VCALENDAR
