BEGIN:VCALENDAR
VERSION:2.0
PRODID:Data::ICal 0.24
X-WR-CALNAME:Berkeley Contra Dance
BEGIN:VTIMEZONE
TZID:America/Los_Angeles
BEGIN:DAYLIGHT
DTSTART:20260308T100000
TZNAME:PDT
TZOFFSETFROM:-0800
TZOFFSETTO:-0700
END:DAYLIGHT
BEGIN:STANDARD
DTSTART:20261101T090000
TZNAME:PST
TZOFFSETFROM:-0700
TZOFFSETTO:-0800
END:STANDARD
END:VTIMEZONE
BEGIN:VEVENT
CATEGORIES:CONTRA
CLASS:PUBLIC
CREATED:20230822T182816
DESCRIPTION:Alan Winston with music by Beth Christian\, Janette Duncan\, Ro
 xanne Oliva Berkeley Contra Dance
DTEND;TZID=America/Los_Angeles:20231019T223000
DTSTAMP:20260424T182504
DTSTART;TZID=America/Los_Angeles:20231019T200000
LAST-MODIFIED:20230905T204244
LOCATION:Christ Church East Bay\, 2138 Cedar Street\, Berkeley
ORGANIZER:Berkeley Contra Dance
STATUS:CONFIRMED
SUMMARY:Berkeley Contra Dance: Alan Winston
UID:cbff560e-ff27-11f0-90e9-4afb30773045
URL:https://bacds.org/series/contra/berkeley_wed/
END:VEVENT
END:VCALENDAR
