BEGIN:VCALENDAR
VERSION:2.0
PRODID:Data::ICal 0.24
X-WR-CALNAME:Palo Alto Friday English Dance
BEGIN:VTIMEZONE
TZID:America/Los_Angeles
BEGIN:DAYLIGHT
DTSTART:20260308T100000
TZNAME:PDT
TZOFFSETFROM:-0800
TZOFFSETTO:-0700
END:DAYLIGHT
BEGIN:STANDARD
DTSTART:20261101T090000
TZNAME:PST
TZOFFSETFROM:-0700
TZOFFSETTO:-0800
END:STANDARD
END:VTIMEZONE
BEGIN:VEVENT
CATEGORIES:ENGLISH
CLASS:PUBLIC
CREATED:20230701T201552
DESCRIPTION:Palo Alto ECD 5th Fridays Advanced ECD When there are five Frid
 ays in the month\, the Palo Alto ECD series now includes an Advanced Dance
 . These are dance parties for experienced dancers. Instruction will be str
 eamlined (familiar dances will be walked-through\, not carefully taught)\,
  and their programs can include some more complicated dances than are usua
 lly seen at our 1st Friday\, Tuesdays\, Thursdays\, or Sundays ECD series.
  There will be only a few new dances on the program for each 5th Friday ev
 ening\, however - we're aiming for minimal teaching for maximum dance time
 . We expect dancers attending these sessions to be unfazed by heys in diff
 erent orientations\, dolphin heys\, double figure 8s\, contra corners\, Ma
 d Robin figures\, etc. They may encounter double progression dances and tr
 iple minors\, or sets in different configurations. Dancers should also be 
 able to maintain their sense of orientation within the set. Check the Face
 book Group for Palo Alto English Country Dance during the week before for 
 a list of dances on the program for each 5th Friday. (This is not the time
  to bring your friends who are new to English country dancing\, although w
 e'd love to see them at other BACDS dance events.) 
DTEND;TZID=America/Los_Angeles:20230929T213000
DTSTAMP:20260425T191442
DTSTART;TZID=America/Los_Angeles:20230929T193000
LAST-MODIFIED:20250703T081922
LOCATION:St. Mark's Episcopal Church\, 600 Colorado Avenue\, Palo Alto
ORGANIZER:Palo Alto Friday English Dance
STATUS:CONFIRMED
SUMMARY:Palo Alto Friday English Dance: Alan Winston\, Bruce Hamilton\, Lis
 e Dyckman
UID:cbfdcd2c-ff27-11f0-90e9-4afb30773045
URL:https://bacds.org/series/english/palo_alto/
END:VEVENT
END:VCALENDAR
