BEGIN:VCALENDAR
VERSION:2.0
PRODID:Data::ICal 0.24
X-WR-CALNAME:English Regency
BEGIN:VTIMEZONE
TZID:America/Los_Angeles
BEGIN:DAYLIGHT
DTSTART:20260308T100000
TZNAME:PDT
TZOFFSETFROM:-0800
TZOFFSETTO:-0700
END:DAYLIGHT
BEGIN:STANDARD
DTSTART:20261101T090000
TZNAME:PST
TZOFFSETFROM:-0700
TZOFFSETTO:-0800
END:STANDARD
END:VTIMEZONE
BEGIN:VEVENT
CATEGORIES:REGENCY
CATEGORIES:ENGLISH
CLASS:PUBLIC
CREATED:20230114T213847
DESCRIPTION:Alan Winston with music by Divertimento: James Langdell Accessi
 ble English country dances not limited to Jane Austen's lifetime\, called 
 without gender reference
DTEND;TZID=America/Los_Angeles:20230512T235959
DTSTAMP:20260422T181203
DTSTART;TZID=America/Los_Angeles:20230512
LAST-MODIFIED:20250703T081922
LOCATION:St. Mark's Church\, 600 Colorado Avenue\, Palo Alto
ORGANIZER:English Regency
STATUS:CONFIRMED
SUMMARY:English Regency: Alan Winston
UID:cbfdbbd1-ff27-11f0-90e9-4afb30773045
URL:https://bacds.org/series/english/palo_alto_reg/
END:VEVENT
END:VCALENDAR
